BEGIN:VCALENDAR
VERSION:2.0
PRODID:-//Patriot Guard Riders - ECPv5.3.2.1//NONSGML v1.0//EN
CALSCALE:GREGORIAN
METHOD:PUBLISH
X-WR-CALNAME:Patriot Guard Riders
X-ORIGINAL-URL:https://www.patriotguard.org
X-WR-CALDESC:Events for Patriot Guard Riders
BEGIN:VTIMEZONE
TZID:America/New_York
BEGIN:DAYLIGHT
TZOFFSETFROM:-0500
TZOFFSETTO:-0400
TZNAME:EDT
DTSTART:20190310T070000
END:DAYLIGHT
BEGIN:STANDARD
TZOFFSETFROM:-0400
TZOFFSETTO:-0500
TZNAME:EST
DTSTART:20191103T060000
END:STANDARD
END:VTIMEZONE
BEGIN:VEVENT
DTSTART;VALUE=DATE:20190614
DTEND;VALUE=DATE:20190615
DTSTAMP:20210404T233119
CREATED:20190612T013149Z
LAST-MODIFIED:20191127T072701Z
UID:164509-1560470400-1560556799@www.patriotguard.org
SUMMARY:Aaron Jeff Hall
DESCRIPTION:Honor Mission\nSrA Aaron Jeff Hall\, Active Duty\, Veteran\nUSAF –\nMaumelle\, Arkansas – 06-14-19\n\n\n\nABOUT THE MISSION: \nSrA Aaron Jeff Hall 30\, Active Duty\, grew up in a military family where he had attended several schools in the DC metro area. His main subject was Italian and he played the snare drum. When he graduated he received a scholarship to attend Bowie State University. He was the percussion section leader for Bowie State\, pledged and was accepted to Kappa Kappa Psi. Following his collage graduation he proudly followed his father’s foot steps and enlisted in the US Air Force July 21\, 1915. He completed Electronic Warfare Systems technical training at Sheppard AFB\, TX\, then was assigned to the 31st. Maintenance Sq. at Aviano Italy. Following his 2 year tour in Italy he was assigned to the 20th Component Maintenance Sq. at Shaw AFB\, South Carolina. He had served for almost four years. He was a mentor\, leader\, and wingman\, but more than all of this\, Aaron really loved the Lord and his family. He is survived by his father and mother\, brother\, and a host of Aunts\, Uncles\, Cousins and friends.\n\n\nPRIMARY STAGING DETAILS: 06-14-19 \nStaging Time: 10:00 AM\n \nSt. Paul United Methodist Church\n9721 Pinnacle Valley Rd.\nMaumelle\, Arkansas 72223\n\n\nRide Captain: \nRichard “ Pa Pa G “ Gentry\nrichardgentry188@ yahoo.com\n501-416-0685\n\n\nSpecial Instructions: \nStaging: 10:00 AM\nBriefing: 10:15 AM\nFlag line: 10:30 AM to 11:00 AM (Start Of Service)\nRespect line: Following the service.\nEscort To: Stuman Cemetery\, 8712 Wilkins Lane\, Maumelle\, Arkansas 72223.\n(Escort about 1/4 mile from the Church )\nFlag line: At the Grave Side Service with Full Military Honors and PGR Presentation.\n\n\nFlags & Water:\nFlags will be provided\nIf you have large bike flags\, please bring them.\nWater will be provided.\n\n\n\nSubmitted By: Richard Gentry \nPosition: Arkansas Ride Captain \n\nNote: You do not have to own/ride a motorcycle or be a veteran to join\, and membership is Free. The only requirement is RESPECT! To subscribe to receive mission notices\, log into the National Site and click on the Members tab at the top. Select the Subscribe to PGR Missions option.\n Print This Page
URL:https://www.patriotguard.org/mission/aaron-jeff-hall/
CATEGORIES:Honor Mission
END:VEVENT
END:VCALENDAR