BEGIN:VCALENDAR
VERSION:2.0
PRODID:-//Patriot Guard Riders - ECPv5.3.2.1//NONSGML v1.0//EN
CALSCALE:GREGORIAN
METHOD:PUBLISH
X-WR-CALNAME:Patriot Guard Riders
X-ORIGINAL-URL:https://www.patriotguard.org
X-WR-CALDESC:Events for Patriot Guard Riders
BEGIN:VTIMEZONE
TZID:America/New_York
BEGIN:DAYLIGHT
TZOFFSETFROM:-0500
TZOFFSETTO:-0400
TZNAME:EDT
DTSTART:20170312T070000
END:DAYLIGHT
BEGIN:STANDARD
TZOFFSETFROM:-0400
TZOFFSETTO:-0500
TZNAME:EST
DTSTART:20171105T060000
END:STANDARD
END:VTIMEZONE
BEGIN:VEVENT
DTSTART;TZID=America/New_York:20170822T190000
DTEND;TZID=America/New_York:20170822T210000
DTSTAMP:20210404T161732
CREATED:20170822T230000Z
LAST-MODIFIED:20191201T035655Z
UID:348591-1503428400-1503435600@www.patriotguard.org
SUMMARY:Aaron Butler - Candlelight Vigil\, Active Duty\, KIA\, ANG - WoT
DESCRIPTION:SSG Aaron Butler – Candlelight Vigil\, Active Duty\, KIA\nANG  – WoT\nHighland\, Utah – 22 Aug 2017\n\n\n[HR][/HR]\nABOUT THE MISSION: \n\nThe Patriot Guard Riders have been requested to stand a flag line for a candlelight vigil in honor of SSG Aaron Butler. \nSSG Aaron Butler\, a member of the Special Forces\, was killed in  Afghanistan while clearing out a home that was booby trapped with  explosives. \nThe vigil will be at Heritage Park on 4425 W Cedar Hills Dr in Cedar  Hills at 8:00 PM on Tuesday\, August 22\, 2017. We will stand a flag line  during the vigil in support of SSG Aaron Butler’s friends and family. \nThank you\, SSG Aaron Butler\, for your service. \nAnyone attending in a cage and willing to transport flags please contact Reed Newman at: 385-441-5664.\n \n\nPRIMARY STAGING DETAILS:  22 Aug 2017\nPrimary Staging Time: 7:00 P.M. \n\nHarts Gas & Food\n10022 N 4800 W\nHighland\, Utah –\n\n\nRide Captain: \n\nReed Newman\n385-441-5664\n\n\nSpecial Instructions: \n\nKSU: 7:40 PM \nWeather: Mostly sunny with 20% chance of showers and a high of 87. Please dress accordingly and keep yourself hydrated.\n \n\nFlags & Water: \n\nFlags Will Be Provided\nIf you have large bike flags\, please bring them.\nWater WILL NOT be provided\, please bring your own.\n\n\nSubmitted By: Dave Richardson\nPosition: Assistant State Captain\n[HR][/HR]Note:\nYou do not have to own/ride a motorcycle or be a Veteran to join and membership is Free. The only requirement is RESPECT! To join\, simply go to www.PatriotGuard.org and click on Register. Membership is Free. \nTo subscribe to receive mission notices\, log into the National Site and click on the Mission Tab at the top. Select the Subscribe to Missions option.
URL:https://www.patriotguard.org/mission/aaron-butler-candlelight-vigil-active-duty-kia-ang-wot/
END:VEVENT
END:VCALENDAR