BEGIN:VCALENDAR
VERSION:2.0
PRODID:-//Patriot Guard Riders - ECPv5.3.2.1//NONSGML v1.0//EN
CALSCALE:GREGORIAN
METHOD:PUBLISH
X-WR-CALNAME:Patriot Guard Riders
X-ORIGINAL-URL:https://www.patriotguard.org
X-WR-CALDESC:Events for Patriot Guard Riders
BEGIN:VTIMEZONE
TZID:America/New_York
BEGIN:DAYLIGHT
TZOFFSETFROM:-0500
TZOFFSETTO:-0400
TZNAME:EDT
DTSTART:20190310T070000
END:DAYLIGHT
BEGIN:STANDARD
TZOFFSETFROM:-0400
TZOFFSETTO:-0500
TZNAME:EST
DTSTART:20191103T060000
END:STANDARD
END:VTIMEZONE
BEGIN:VEVENT
DTSTART;VALUE=DATE:20190914
DTEND;VALUE=DATE:20190915
DTSTAMP:20210401T133729
CREATED:20190911T123436Z
LAST-MODIFIED:20190911T123436Z
UID:173324-1568419200-1568505599@www.patriotguard.org
SUMMARY:A WOT Hero - Key Ceremony
DESCRIPTION:HOTH Mission\nA WOT Hero – Key Ceremony\, Retired\nUSA – \, WoT\nGarden Ridge\, Texas – 09-14-19\n\n\n\n\nABOUT THE MISSION: \nThe Patriot Guard Riders have been asked to ride a procession and stand a Flag Line for the veteran and family to participate in a Key Awarding Ceremony presented by Homes For Our Troops (HFOT). This ceremony will be the final presentation of a specially adapted mortgage free home for a US Army Veteran.\n\n\nPRIMARY STAGING DETAILS: 09-14-19 \nStaging Time: 09:00  \nTrinity Oaks\n9385 Miller Ln\nGarden Ridge\, Texas 78266\nMap\n\n\nRide Captain: \nPete “Sea Dog” Johnson\npfjohn127@gmail.com\n\n\nSpecial Instructions: \nStaging: 09:00 AM Briefing: 09:15 AM Ceremony: 10:00 AM Location – To be announced at the briefing.\n\nFlags & Water:\nFlags will be provided\nIf you have large bike flags\, please bring them.\nWater will be provided.\n\n\n\nSubmitted By: Lisa Menard \nPosition: Texas Ride Captain \n\nNote: You do not have to own/ride a motorcycle or be a veteran to join\, and membership is Free. The only requirement is RESPECT! To subscribe to receive mission notices\, log into the National Site and click on the Members tab at the top. Select the Subscribe to PGR Missions option.\n Print This Page
URL:https://www.patriotguard.org/mission/a-wot-hero/
CATEGORIES:HOTH Mission
END:VEVENT
END:VCALENDAR