BEGIN:VCALENDAR
VERSION:2.0
PRODID:-//Patriot Guard Riders - ECPv5.3.2.1//NONSGML v1.0//EN
CALSCALE:GREGORIAN
METHOD:PUBLISH
X-WR-CALNAME:Patriot Guard Riders
X-ORIGINAL-URL:https://www.patriotguard.org
X-WR-CALDESC:Events for Patriot Guard Riders
BEGIN:VTIMEZONE
TZID:America/New_York
BEGIN:DAYLIGHT
TZOFFSETFROM:-0500
TZOFFSETTO:-0400
TZNAME:EDT
DTSTART:20180311T070000
END:DAYLIGHT
BEGIN:STANDARD
TZOFFSETFROM:-0400
TZOFFSETTO:-0500
TZNAME:EST
DTSTART:20181104T060000
END:STANDARD
END:VTIMEZONE
BEGIN:VEVENT
DTSTART;TZID=America/New_York:20180324T074500
DTEND;TZID=America/New_York:20180324T094500
DTSTAMP:20210401T154847
CREATED:20180324T114500Z
LAST-MODIFIED:20191201T034630Z
UID:343422-1521877500-1521884700@www.patriotguard.org
SUMMARY:A Hero's 5K
DESCRIPTION:HOTH Mission \nA Hero’s 5K\nGreenville\, South Carolina – 24 Mar 2018\n\n\n[HR][/HR]\nABOUT THE MISSION: \n\nA Hero’s 5K was created by family and friends of SPC Geoffrey Whitsitt to honor all fallen heroes. The   Patriot Guard Riders have once again been asked to honor our fallen with a flag line during the opening ceremonies and to provide a motorcycle send off for the runners participating.   It means an early start to a busy day with the Meet and Greet also scheduled\, but if you are able\, please support the event in honor of those we serve. \nThis is a one part mission.\n \n\nPRIMARY STAGING DETAILS:  24 Mar 2018\nPrimary Staging Time: 07:45 A.M. \n\nFurman University  (McAlister Auditorium parking area)\n3300 Poinsett Highway\nGreenville\, South Carolina – 29613\nhttps://goo.gl/maps/qcdyBtXFWzT2\n\n\nRide Captain: \n\nIndia Rackley\n864-704-2132\nindiarackley@gmail.com\n\n\nSpecial Instructions: \n\nAfter the ride brief we will move to the amphitheater to establish our flag line for the opening ceremonies which begin at 8:30 am\, with 5K race starting at 8:55 am. We will again stand a flag line for closing at 10:00 am.\n\n\nFlags & Water: \n\nFlags Will Be Provided\nIf you have large bike flags\, please bring them.\nWater will be provided.\n\nSubmitted By: Sam McGinnis\nPosition: Assistant State Captain\n[HR][/HR]Note:\nYou do not have to own/ride a motorcycle or be a Veteran to join and membership is Free. The only requirement is RESPECT! To join\, simply go to www.PatriotGuard.org and click on Register. Membership is Free. \nTo subscribe to receive mission notices\, log into the National Site and click on the Mission Tab at the top. Select the Subscribe to Missions option.
URL:https://www.patriotguard.org/mission/a-heros-5k/
END:VEVENT
END:VCALENDAR