BEGIN:VCALENDAR
VERSION:2.0
PRODID:-//Patriot Guard Riders - ECPv5.3.2.1//NONSGML v1.0//EN
CALSCALE:GREGORIAN
METHOD:PUBLISH
X-WR-CALNAME:Patriot Guard Riders
X-ORIGINAL-URL:https://www.patriotguard.org
X-WR-CALDESC:Events for Patriot Guard Riders
BEGIN:VTIMEZONE
TZID:America/New_York
BEGIN:DAYLIGHT
TZOFFSETFROM:-0500
TZOFFSETTO:-0400
TZNAME:EDT
DTSTART:20190310T070000
END:DAYLIGHT
BEGIN:STANDARD
TZOFFSETFROM:-0400
TZOFFSETTO:-0500
TZNAME:EST
DTSTART:20191103T060000
END:STANDARD
END:VTIMEZONE
BEGIN:VEVENT
DTSTART;VALUE=DATE:20190911
DTEND;VALUE=DATE:20190912
DTSTAMP:20210401T015118
CREATED:20190909T131301Z
LAST-MODIFIED:20190909T131355Z
UID:172937-1568160000-1568246399@www.patriotguard.org
SUMMARY:9/11 Memorial Ceremony
DESCRIPTION:HOTH Mission\n9/11 Memorial Ceremony\n\nEl Paso\, Texas – 09-11-19\n\n\n\nABOUT THE MISSION: \nThe Director of the Fort Bliss National Cemetery in partnership with Carry the Load will hold a Remembrance Ceremony on September 11 at the flagpole.  The Far West Texas Patriot Guard Riders have been honored with a request to stand a flag-line in honor of the loss of our citizens\, firefighters\, police officers and first responders 18 years ago during the terrorist attack on the Twin Towers of the World Trade Center in New York\, the Pentagon in Washington D.C. and United Flight 93 in Shanksville\, Pennsylvania.  Following the ceremony there will some time allotted to volunteer cleaning of headstones and a general policing of the cemetery.\n\n\nPRIMARY STAGING DETAILS: 09-11-19 \nStaging: 8:30 AM\n \nFort Bliss National Cemetery\n5200 Fred Wilson Ave\nEl Paso\, Texas 79906\n\n\nRide Captain: \nVaughn Nelson\nfwtpgrmissions@gmail.com\n(915) 667-9992\n\nMission Scheduling:\nPaul Lewey\nelpaso2007@yahoo.com\n(915) 433-7000 cell\n\n\nSpecial Instructions: \nStaging: 8:30 AM\nBriefing: 8:45 AM\nFlag Line: 9:00 AM\n\n\nFlags & Water:\nFlags will be provided\nLarge Bike Flags will NOT be needed.\nWater will be provided.\n\nSubmitted By: Vaughn Nelson \nPosition: Texas Ride Captain \n\nNote: You do not have to own/ride a motorcycle or be a veteran to join\, and membership is Free. The only requirement is RESPECT! To subscribe to receive mission notices\, log into the National Site and click on the Members tab at the top. Select the Subscribe to PGR Missions option.\n Print This Page
URL:https://www.patriotguard.org/mission/9-11-memorial-ceremony/
CATEGORIES:HOTH Mission
END:VEVENT
END:VCALENDAR