BEGIN:VCALENDAR
VERSION:2.0
PRODID:-//Patriot Guard Riders - ECPv5.3.2.1//NONSGML v1.0//EN
CALSCALE:GREGORIAN
METHOD:PUBLISH
X-WR-CALNAME:Patriot Guard Riders
X-ORIGINAL-URL:https://www.patriotguard.org
X-WR-CALDESC:Events for Patriot Guard Riders
BEGIN:VTIMEZONE
TZID:America/New_York
BEGIN:DAYLIGHT
TZOFFSETFROM:-0500
TZOFFSETTO:-0400
TZNAME:EDT
DTSTART:20190310T070000
END:DAYLIGHT
BEGIN:STANDARD
TZOFFSETFROM:-0400
TZOFFSETTO:-0500
TZNAME:EST
DTSTART:20191103T060000
END:STANDARD
END:VTIMEZONE
BEGIN:VEVENT
DTSTART;VALUE=DATE:20190911
DTEND;VALUE=DATE:20190912
DTSTAMP:20210401T100120
CREATED:20190909T232709Z
LAST-MODIFIED:20190909T232709Z
UID:173295-1568160000-1568246399@www.patriotguard.org
SUMMARY:9/11 Memorial
DESCRIPTION:Memorial\n9/11 Memorial\n\nMemphis\, Tennessee – 09-11-19\n\n\n\nABOUT THE MISSION: \nJudy Hall of Trezevant Manor in Memphis has asked the Patriot Guard to help commemorate September 11th First Responder’s that died that day and all the service members who have passed as a result.\n\n\nPRIMARY STAGING DETAILS: 09-11-19 \nStaging Time: 8:45 AM\n \nTrezevant Manor\n3437 Waynoka Ave\nMemphis\, Tennessee 38111\nMap\n\n\nRide Captain: \nKen Reed\nusmc_reed@msn.com\n901-212-3232\n\n\nSpecial Instructions: \nJudy Hall would like the Patriot Guard arrive for a 9:00 AM service.\nBreakfast will be served and time to spend with veteran residents.\n\n\nFlags & Water:\nFlags will be provided\nLarge Bike Flags will NOT be needed.\nWater WILL NOT be provided\, please bring your own.\n\n\n\nSubmitted By: Ken Reed \nPosition: Tennessee Ride Captain \n\nNote: You do not have to own/ride a motorcycle or be a veteran to join\, and membership is Free. The only requirement is RESPECT! To subscribe to receive mission notices\, log into the National Site and click on the Members tab at the top. Select the Subscribe to PGR Missions option.\n Print This Page
URL:https://www.patriotguard.org/mission/9-11-memorial-3/
CATEGORIES:Memorial
END:VEVENT
END:VCALENDAR