BEGIN:VCALENDAR
VERSION:2.0
PRODID:-//Patriot Guard Riders - ECPv5.6.0//NONSGML v1.0//EN
CALSCALE:GREGORIAN
METHOD:PUBLISH
X-WR-CALNAME:Patriot Guard Riders
X-ORIGINAL-URL:https://www.patriotguard.org
X-WR-CALDESC:Events for Patriot Guard Riders
BEGIN:VTIMEZONE
TZID:America/New_York
BEGIN:DAYLIGHT
TZOFFSETFROM:-0500
TZOFFSETTO:-0400
TZNAME:EDT
DTSTART:20080309T070000
END:DAYLIGHT
BEGIN:STANDARD
TZOFFSETFROM:-0400
TZOFFSETTO:-0500
TZNAME:EST
DTSTART:20081102T060000
END:STANDARD
END:VTIMEZONE
BEGIN:VEVENT
DTSTART;TZID=America/New_York:20080613T090000
DTEND;TZID=America/New_York:20080613T110000
DTSTAMP:20210513T213344
CREATED:20080613T130000Z
LAST-MODIFIED:20191201T113845Z
UID:381348-1213347600-1213354800@www.patriotguard.org
SUMMARY:1SGT James Raymond\, 55\, ANG
DESCRIPTION:Updated 1303 cdt 13 June 08 Big rock \nTHIS IS THE FINAL ITINERARY FOR THE SERVICES FOR \n 1SGT JAMES RAYMOND – 13JUNE – WAREHAM\, MA \nSTAGING:  Chapman\, Cole & Gleason Funeral Home \n2599 Cranberry Highway \nWareham\, MA \nMAP LINK:  http://tinyurl.com/4zlbjb \nSTAGING TIME:  0700 Friday\, June 13th \nKSU:  0730 \nThe procession will leave the funeral home and proceed to Camp Edwards where there will a short service at the Coast Guard Chapel.  After the service internment will take place at the Bourne National Cemetery. \nRIDE CAPTAIN:  Jerry McHale   KDLPLUM@aol.com \n>>>>>PLEASE BRING YOUR FLAGS
URL:https://www.patriotguard.org/mission/1sgt-james-raymond-55-ang/
LOCATION:Jimmy “Jim” Doyle Wells
CATEGORIES:Archive
END:VEVENT
END:VCALENDAR