BEGIN:VCALENDAR
VERSION:2.0
PRODID:-//Patriot Guard Riders - ECPv5.6.0//NONSGML v1.0//EN
CALSCALE:GREGORIAN
METHOD:PUBLISH
X-WR-CALNAME:Patriot Guard Riders
X-ORIGINAL-URL:https://www.patriotguard.org
X-WR-CALDESC:Events for Patriot Guard Riders
BEGIN:VTIMEZONE
TZID:America/New_York
BEGIN:DAYLIGHT
TZOFFSETFROM:-0500
TZOFFSETTO:-0400
TZNAME:EDT
DTSTART:20160313T070000
END:DAYLIGHT
BEGIN:STANDARD
TZOFFSETFROM:-0400
TZOFFSETTO:-0500
TZNAME:EST
DTSTART:20161106T060000
END:STANDARD
END:VTIMEZONE
BEGIN:VEVENT
DTSTART;TZID=America/New_York:20160819T090000
DTEND;TZID=America/New_York:20160819T110000
DTSTAMP:20210512T052808
CREATED:20160819T130000Z
LAST-MODIFIED:20191201T143530Z
UID:409857-1471597200-1471604400@www.patriotguard.org
SUMMARY:1SG Lewis Dean Richardson
DESCRIPTION:The family of First Sergeant E-8 Lewis Dean Richardson\, 28 Year Veteran of the United States Army for has asked for the Patriot Guard to render honors for his interment. \nFriday\, 19 August 2016\nThe Funeral Home for him is Sunset Funeral Home\, 4631 Hondo Pass Drive\, El Paso TX \nA Gathering of Remembrance and a Funeral Service will be held at Sunset Funeral Home from 08:30 to 10:30 \nStaging:                                 07:30      At Mt Carmel\nBriefing:                                 07:45\nHonors Flag Line:                 08:00-08:30 \nInterment at the Ft Bliss National Cemetery\, 5200 Fred Wilson Dr. El Paso Texas\, at 11:00 (West Shelter). The PGR will provide an escort from Sunset Funeral Home to the Ft. Bliss National Cemetery.\nStage:                                    10:00     Sunset Funeral Home (If not already Present)\nKSU:                                      10:30     (Approximate\, at the end of Services) \nUpon arrival\, the PGR will stand the Honors Flag Line at the Ft. Bliss National Cemetery.\nAmazing Grace has been asked for.\nRide Captain:       Skip Haberkamp\n(915) 833-0504 Home\n(915) 401-6272 Cell \nAnyone taking pictures\, please stay within the standard set forth by the PGR\, as well as the Ft. Bliss National Cemetery. Please do not go within the Shelter.
URL:https://www.patriotguard.org/mission/1sg-lewis-dean-richardson/
CATEGORIES:Archive
END:VEVENT
END:VCALENDAR