BEGIN:VCALENDAR
VERSION:2.0
PRODID:-//Patriot Guard Riders - ECPv5.6.0//NONSGML v1.0//EN
CALSCALE:GREGORIAN
METHOD:PUBLISH
X-WR-CALNAME:Patriot Guard Riders
X-ORIGINAL-URL:https://www.patriotguard.org
X-WR-CALDESC:Events for Patriot Guard Riders
BEGIN:VTIMEZONE
TZID:America/New_York
BEGIN:DAYLIGHT
TZOFFSETFROM:-0500
TZOFFSETTO:-0400
TZNAME:EDT
DTSTART:20160313T070000
END:DAYLIGHT
BEGIN:STANDARD
TZOFFSETFROM:-0400
TZOFFSETTO:-0500
TZNAME:EST
DTSTART:20161106T060000
END:STANDARD
END:VTIMEZONE
BEGIN:VEVENT
DTSTART;TZID=America/New_York:20160616T090000
DTEND;TZID=America/New_York:20160616T110000
DTSTAMP:20210511T133644
CREATED:20160616T130000Z
LAST-MODIFIED:20191201T145051Z
UID:411265-1466067600-1466074800@www.patriotguard.org
SUMMARY:1SG Elzy Knapp\, USA(RET)
DESCRIPTION:Elzy “Mark” Knapp- 1st Sgt\nUnited States Army – Korea & Vietnam – Retired\n6-16-2016\n\n \nPatriot Guard Riders of New Mexico have been invited by the family to honor a fallen veteran and brother. Elzy honorably served his country in the US Army during the Korean Conflict & Vietnam. More at: http://riversidefunerals.com/obituary-detail.php?obituary_id=61231  \nPRIMARY STAGING INFO -6-16-2016\n\nLocation:\nSunset Memorial Park ( parking lot next to the building in the back of the park)\n924 Menaul Blvd\nAlbuquerque\, NM \n  \nStaging Time:\n9:15 AM\n \nBriefing:\n9.20 AM\n \nFlag Line – to be set up at gravesite for 10:00 service\n  \nRCIC: Dan Rambow dan48041@yahoo.com  994-1060 – H      235-8589 – C\n   \nFlags will be provided.\nLarge bike flags will NOT be needed.\n \nWeather: at times of service\n\n79˚ Mostly sunny slight chance of a shower
URL:https://www.patriotguard.org/mission/1sg-elzy-knapp-usaret/
CATEGORIES:Archive
END:VEVENT
END:VCALENDAR