BEGIN:VCALENDAR
VERSION:2.0
PRODID:-//Patriot Guard Riders - ECPv5.3.2.1//NONSGML v1.0//EN
CALSCALE:GREGORIAN
METHOD:PUBLISH
X-WR-CALNAME:Patriot Guard Riders
X-ORIGINAL-URL:https://www.patriotguard.org
X-WR-CALDESC:Events for Patriot Guard Riders
BEGIN:VTIMEZONE
TZID:America/New_York
BEGIN:DAYLIGHT
TZOFFSETFROM:-0500
TZOFFSETTO:-0400
TZNAME:EDT
DTSTART:20210314T070000
END:DAYLIGHT
BEGIN:STANDARD
TZOFFSETFROM:-0400
TZOFFSETTO:-0500
TZNAME:EST
DTSTART:20211107T060000
END:STANDARD
END:VTIMEZONE
BEGIN:VEVENT
DTSTART;VALUE=DATE:20210417
DTEND;VALUE=DATE:20210418
DTSTAMP:20210405T171346
CREATED:20210402T135048Z
LAST-MODIFIED:20210402T135048Z
UID:573636-1618617600-1618703999@www.patriotguard.org
SUMMARY:10th Annual JD Paugh Memorial Ride/Event
DESCRIPTION:Memorial\n10th Annual JD Paugh Memorial Ride/Event\n–\nGrovetown\, Georgia – 04-17-21\n\n\n\nABOUT THE MISSION: \nThe Patriot Guard Riders have the honor of once again participating in the LEO escorted ride/event as we have done since Deputy J.D. Paugh tragically lost his life on October 23rd\, 2011. We want everyone to come out and show their support for our Law Enforcement and remember the reason this event was started 10 years ago! Remember the man that was taken from us way too soon! We need to all come together: trucks\, bikes\, cars\, jeeps… If you can drive it (legally lol) we want it in the ride! We need to show our respect for those fallen by supporting those protecting us day and night. We invite you all to come out\, join the fun! Join the ride\, fly your flags high\, and BACK THE BLUE!! Event Link\n\n\nPRIMARY STAGING DETAILS: 04-17-21 \nStaging Time: 09:00am \nWild Wing Cafe (Grovetown)\n5147 Bluegrass Trail\nGrovetown\, Georgia 30813\n\n\nRide Captain: \nLeon ‘River Rat’ McLamb\ngapgrleon.mclamb@gmail.com\n(706) 836-6104\n\n\nSpecial Instructions: \nWe will set up a static flag line only\, no PGR manned flag line for this event. This is a new Wild wing location\, not the one we have used previously for this event. Link to staging location: MAP PGR will not be required to pay for the ride if they arrive at the staging time (Donations are appreciated). PGR membership will be verified by RCIC or their representative. You should have a patch/pin or other identifying item indicating you are PGR. Those arriving after 09:30 am will have to register as a paid ride participant and lineup for the ride in the order they arrive.\n\n Coronavirus precaution disclosure: Please bring a mask and wash hands often\, be prepared to follow the guidelines from state and local officials as well as facility or cemetery guidelines to be outlined at the mission briefing. A general record of attendees will be held by the ride captain for a period not to exceed 2 weeks in the case of the need for contact tracing. \n\nIf you test positive for COVID-19 within 10 days of attending a mission please contact Ride Captain with that information\, your name will NOT be disclosed. Those who are sick\, have a household member or other close contact who is sick should not attend and those who have a higher risk of severe illness should weigh the benefits of in-person attendance against the risk of exposure to a person with COVID-19\, especially if recommendations for wearing masks and social distancing may be difficult to follow for themselves or others.\n\n\nFlags & Water:\nFlags will not be provided\nIf you have large bike flags\, please bring them.\nWater WILL NOT be provided\, please bring your own.\n\n\n\nSubmitted By: Leon Mclamb \nPosition: Georgia Assistant State Captain \n\nNote: You do not have to own/ride a motorcycle or be a veteran to join\, and membership is Free. The only requirement is RESPECT! To subscribe to receive mission notices\, log into the National Site and click on the Members tab at the top. Select the Subscribe to PGR Missions option.\n Print This Page
URL:https://www.patriotguard.org/mission/10th-annual-jd-paugh-memorial-ride-event/
CATEGORIES:Memorial
END:VEVENT
END:VCALENDAR