BEGIN:VCALENDAR
VERSION:2.0
PRODID:-//Patriot Guard Riders - ECPv5.3.2.1//NONSGML v1.0//EN
CALSCALE:GREGORIAN
METHOD:PUBLISH
X-WR-CALNAME:Patriot Guard Riders
X-ORIGINAL-URL:https://www.patriotguard.org
X-WR-CALDESC:Events for Patriot Guard Riders
BEGIN:VTIMEZONE
TZID:America/New_York
BEGIN:DAYLIGHT
TZOFFSETFROM:-0500
TZOFFSETTO:-0400
TZNAME:EDT
DTSTART:20190310T070000
END:DAYLIGHT
BEGIN:STANDARD
TZOFFSETFROM:-0400
TZOFFSETTO:-0500
TZNAME:EST
DTSTART:20191103T060000
END:STANDARD
END:VTIMEZONE
BEGIN:VEVENT
DTSTART;VALUE=DATE:20190909
DTEND;VALUE=DATE:20190910
DTSTAMP:20210401T135343
CREATED:20190906T144525Z
LAST-MODIFIED:20190909T133153Z
UID:173001-1567987200-1568073599@www.patriotguard.org
SUMMARY:4th Annual 9/11 Memorial Golf Classic
DESCRIPTION:STAND DOWN\nMemorial\n4th Annual 9/11 Memorial Golf Classic\nAugusta\, Georgia – 09-09-19\n\n\n ABOUT THE MISSION:\n\n\nForces United (previously known as the Augusta Warrior Project) has invited the Patriot Guard Riders to participate in the opening ceremony of their fourth annual 9/11 Memorial Golf Classic. We have stood a flag line in the previous three events and are honored to be asked to participate again.\n\n\nPRIMARY STAGING DETAILS: 09-09-19 \nStaging Time: 08:45 am \nCircle K\n3947 Harper Franklin Ave\nAugusta\, Georgia 30909\nMap\n\n\nRide Captain: \nLeon ‘River Rat’ McLamb\nmcla549@bellsouth.net\n(706) 836-6104\n\n\nSpecial Instructions: \nThis mission requires entrance to Fort Gordon GA. All motorcycle riders are required to wear a DOT approved helmet\, eye protection\, full fingered gloves\, boots at least 6″ high\, and a reflective vest/bright colored clothing\, long sleeve and long pants. In addition\, please ensure you have a valid drivers license with photo and proof of insurance. No Firearms are allowed on Ft. Gordon.We will stand a flag line during the opening ceremony for the tournament. Our portion will be over when the tournament begins at 11:00 am.\n\n\nFlags & Water:\nFlags will be provided\nIf you have large bike flags\, please bring them.\nWater will be provided.\n\n\n\nSubmitted By: Leon McLamb \nPosition: Georgia Assistant State Captain \n\nNote: You do not have to own/ride a motorcycle or be a veteran to join\, and membership is Free. The only requirement is RESPECT! To subscribe to receive mission notices\, log into the National Site and click on the Members tab at the top. Select the Subscribe to PGR Missions option.\n Print This Page
URL:https://www.patriotguard.org/mission/09-09-19-4th-annual-9-11-memorial-golf-classic/
CATEGORIES:Memorial
END:VEVENT
END:VCALENDAR