BEGIN:VCALENDAR
VERSION:2.0
PRODID:-//Patriot Guard Riders - ECPv5.3.2.1//NONSGML v1.0//EN
CALSCALE:GREGORIAN
METHOD:PUBLISH
X-WR-CALNAME:Patriot Guard Riders
X-ORIGINAL-URL:https://www.patriotguard.org
X-WR-CALDESC:Events for Patriot Guard Riders
BEGIN:VTIMEZONE
TZID:America/New_York
BEGIN:DAYLIGHT
TZOFFSETFROM:-0500
TZOFFSETTO:-0400
TZNAME:EDT
DTSTART:20190310T070000
END:DAYLIGHT
BEGIN:STANDARD
TZOFFSETFROM:-0400
TZOFFSETTO:-0500
TZNAME:EST
DTSTART:20191103T060000
END:STANDARD
END:VTIMEZONE
BEGIN:VEVENT
DTSTART;VALUE=DATE:20190816
DTEND;VALUE=DATE:20190817
DTSTAMP:20210402T130343
CREATED:20190814T144935Z
LAST-MODIFIED:20190814T145014Z
UID:170845-1565913600-1565999999@www.patriotguard.org
SUMMARY:Drew Cutter Sleeper
DESCRIPTION:Honor Mission\nDrew Cutter Sleeper\, Retired\nUSAF – Vietnam\nDallas\, Texas – 08-16-19\n\n\n\nABOUT THE MISSION: \nDuring LtCol Sleeper’s 29 years of service in the US Air Force\, he was a pilot initially flying the F-86 Saber Jet and then transitioned into the B-52 Stratofortress bomber. In addition\, he served as an Air Operations Officer and an Organization Commander. During his distinguished and honorable service\, he was awarded the Meritorious Service Medal\, Air Force Commendation Medal\, and Air Medal w/6 OLC.\n\n\nPRIMARY STAGING DETAILS: 08-16-19 \nStaging Time: 1:15 pm  \nDFW National Cemetery\n2000 Mountain Creek Pkwy\nDallas\, Texas 75211\n\n\nRide Captain: \nJim Anderson\nweirdandy@hotmail.com\n(817) 269-1254\n\n\nSpecial Instructions: \nStaging Time: 1:15 pm\nBriefing Time: 1:30 pm\nIn Position/KSU Time: 1:45 pm\nStarting Time: 2:00 pm\nPrior to the riders briefing at the Visitor Center\, four honor bikes will be selected to accompany the family vehicle to Committal Shelter A. After the riders briefing\, the PGR will stand the flag line at the designated shelter where we will “Stand Tall and Silent” in honor of an American Hero LtCol Drew C. Sleeper\, US Air Force and his wife Evelyn\, due to the service being a double inurnment service. Family and friends will be in attendance. Upon conclusion of the double inurnment service\, the flags will be furled and returned to storage\, followed by rider debriefed and dismissed.\n\n\nFlags & Water:\nFlags will be provided\nIf you have large bike flags\, please bring them.\nWater will be provided.\n\nSubmitted By: Dan Mathys \nPosition: Texas Ride Captain \n\nNote: You do not have to own/ride a motorcycle or be a veteran to join\, and membership is Free. The only requirement is RESPECT! To subscribe to receive mission notices\, log into the National Site and click on the Members tab at the top. Select the Subscribe to PGR Missions option.\n Print This Page
URL:https://www.patriotguard.org/mission/08-16-19-drew-cutter-sleeper/
CATEGORIES:Honor Mission
END:VEVENT
END:VCALENDAR