BEGIN:VCALENDAR
VERSION:2.0
PRODID:-//Patriot Guard Riders - ECPv5.3.2.1//NONSGML v1.0//EN
CALSCALE:GREGORIAN
METHOD:PUBLISH
X-WR-CALNAME:Patriot Guard Riders
X-ORIGINAL-URL:https://www.patriotguard.org
X-WR-CALDESC:Events for Patriot Guard Riders
BEGIN:VTIMEZONE
TZID:America/New_York
BEGIN:DAYLIGHT
TZOFFSETFROM:-0500
TZOFFSETTO:-0400
TZNAME:EDT
DTSTART:20190310T070000
END:DAYLIGHT
BEGIN:STANDARD
TZOFFSETFROM:-0400
TZOFFSETTO:-0500
TZNAME:EST
DTSTART:20191103T060000
END:STANDARD
END:VTIMEZONE
BEGIN:VEVENT
DTSTART;VALUE=DATE:20190727
DTEND;VALUE=DATE:20190728
DTSTAMP:20210404T051725
CREATED:20190723T230242Z
LAST-MODIFIED:20190723T230242Z
UID:168600-1564185600-1564271999@www.patriotguard.org
SUMMARY:Gene Nolan Yates
DESCRIPTION:  \n\nHonor Mission\nGene Nolan Yates\, Veteran\nUSA \, USAR – Korea\nMULTI-CITY  07-27-19\n\n\n \n\nABOUT THE MISSION: \nThe family of U.S. Army\, SSGT Gene Nolan Yates (84) requests the Patriot Guard Riders presence to stand a flag line prior to his service at Williams-Thomas Funeral Home\, Newberry\, FL. followed by a flag line at Evergreen Cemetery\, Gainesville\, FL\, as the family shows their final respects to their loved one. SSGT Yates served his country honorably for 14 years as a member of Special Forces. Following his military service he served 30 years as a Deputy Sheriff in Alachua County. Please come join us on the flag line as we honor a Korean War Veteran and former LEO.\n\n\nPRIMARY STAGING DETAILS: 07-27-19 \nStaging Time: 09:45 AM  \nWilliams-Thomas Funeral Home\n823 NW 143rd St\nNewberry\, Florida 32669\nhttps://goo.gl/maps/r92i75yNjgSzXZnf8\n\n\nRide Captain: \nRussell Sullivan\nrls9151@bellsouth.net\n(904) 309-3132\n\n\nSpecial Instructions: \nBrief: 10:00 AM\nFlag Line: 10:15 AM\nPossible escort from Newberry to Gainesville\n\n\nFlags & Water:\nFlags will not be provided\nIf you have large bike flags\, please bring them.\nWater WILL NOT be provided\, please bring your own.\n\n\nSTAGING #2 DETAILS: 07-27-19 \nStaging Time: 12:00 PM   \nEvergreen Cemetery\n401 SE 21st Ave\nGainesville\, Florida 37203\nhttps://goo.gl/maps/fLr3jKAtdt6xtkwH8\n\n\nRide Captain: \nRussell Sullivan\nrls9151@bellsouth.net\n(904) 309-3132\n\n\nSpecial Instructions: \nBrief: 12:15 PM or upon arrival of escort\nFlag Line: 12:30 PM\n\n\nFlags & Water:\nFlags will not be provided\nLarge Bike Flags will NOT be needed.\nWater WILL NOT be provided\, please bring your own.\n  \n\n\n\nSubmitted By: Richard Vernon \nPosition: Florida Assistant State Captain \n\nNote: You do not have to own/ride a motorcycle or be a veteran to join\, and membership is Free. The only requirement is RESPECT! To subscribe to receive mission notices\, log into the National Site and click on the Members tab at the top. Select the Subscribe to PGR Missions option.\n Print This Page
URL:https://www.patriotguard.org/mission/07-27-19-gene-nolan-yates/
CATEGORIES:Honor Mission
END:VEVENT
END:VCALENDAR