BEGIN:VCALENDAR
VERSION:2.0
PRODID:-//Patriot Guard Riders - ECPv5.3.2.1//NONSGML v1.0//EN
CALSCALE:GREGORIAN
METHOD:PUBLISH
X-WR-CALNAME:Patriot Guard Riders
X-ORIGINAL-URL:https://www.patriotguard.org
X-WR-CALDESC:Events for Patriot Guard Riders
BEGIN:VTIMEZONE
TZID:America/New_York
BEGIN:DAYLIGHT
TZOFFSETFROM:-0500
TZOFFSETTO:-0400
TZNAME:EDT
DTSTART:20190310T070000
END:DAYLIGHT
BEGIN:STANDARD
TZOFFSETFROM:-0400
TZOFFSETTO:-0500
TZNAME:EST
DTSTART:20191103T060000
END:STANDARD
END:VTIMEZONE
BEGIN:VEVENT
DTSTART;VALUE=DATE:20190725
DTEND;VALUE=DATE:20190726
DTSTAMP:20210403T184624
CREATED:20190716T012438Z
LAST-MODIFIED:20190716T114554Z
UID:167768-1564012800-1564099199@www.patriotguard.org
SUMMARY:HEROES WITHOUT FAMILIES
DESCRIPTION:Honor Mission\nHEROES WITHOUT FAMILIES\, Veteran\nUSA\, USMC\, USN\, USAF\, and USCG\nPensacola\, Florida – 07-25-19\n\n\n ABOUT THE MISSION:\n\nMr. Craig LaChance\, Director of Barrancas National Cemetery\, has cordially invited the Patriot Guard to participate in honoring the Heroes Without Families of personnel during this quarter. The ceremony will take place at Site “A”\, Barrancas National Cemetery\, NAS Pensacola\, FL.\n\n\nPRIMARY STAGING DETAILS: 07-25-19 \nStaging Time: 6:30 AM \nWhataburger\, 1313 N. New Warrington Rd\nPensacola\, Florida\n\n\nRide Captain: \nRay Doyle\n850 902 0123\nretonaharley@gmail.com\n\n\nSpecial Instructions: \nCAUTION; The Naval Station requires long sleeve shirts\, long trousers\, long-fingered gloves\, leather footwear covering the ankles\, DOT approved helmets and appropriate eyewear while riding aboard the base.\n\n7:00 AM – Safety briefing for all riders\n7:15 AM – KSU for NAS Pensacola\n8:00 AM – Ceremony at Site “A”\n\n\n\nFlags & Water:\nFlags will be provided\nLarge Bike Flags will NOT be needed.\nWater will be provided.\n\n\n\nSubmitted By: Ray Doyle \nPosition: Florida Assistant State Captain \n\n\nNote: You do not have to own/ride a motorcycle or be a veteran to join\, and membership is Free. The only requirement is RESPECT! To subscribe to receive mission notices\, log into the National Site and click on the Members tab at the top. Select the Subscribe to PGR Missions option.
URL:https://www.patriotguard.org/mission/07-25-19-heroes-without-families/
CATEGORIES:Honor Mission
END:VEVENT
END:VCALENDAR