BEGIN:VCALENDAR
VERSION:2.0
PRODID:-//Patriot Guard Riders - ECPv5.3.2.1//NONSGML v1.0//EN
CALSCALE:GREGORIAN
METHOD:PUBLISH
X-WR-CALNAME:Patriot Guard Riders
X-ORIGINAL-URL:https://www.patriotguard.org
X-WR-CALDESC:Events for Patriot Guard Riders
BEGIN:VTIMEZONE
TZID:America/New_York
BEGIN:DAYLIGHT
TZOFFSETFROM:-0500
TZOFFSETTO:-0400
TZNAME:EDT
DTSTART:20190310T070000
END:DAYLIGHT
BEGIN:STANDARD
TZOFFSETFROM:-0400
TZOFFSETTO:-0500
TZNAME:EST
DTSTART:20191103T060000
END:STANDARD
END:VTIMEZONE
BEGIN:VEVENT
DTSTART;VALUE=DATE:20190706
DTEND;VALUE=DATE:20190707
DTSTAMP:20210404T062937
CREATED:20190706T141840Z
LAST-MODIFIED:20190706T142130Z
UID:166797-1562371200-1562457599@www.patriotguard.org
SUMMARY:Charles Dell Buhle
DESCRIPTION:Honor Mission\nCharles Dell Buhle\, Veteran\nUSA\nNorth Richland Hills\, Texas – 07-06-19\n\n\n \n\nABOUT THE MISSION: \nCharles Dell Buhle honorably served in the United States Army from 1965 until 1969. He was originally assigned to Vietnam but before deployment was reassigned to Turkey.\n\n\nPRIMARY STAGING DETAILS: 07-06-19 \nStaging Time: 1:00 pm \nForest Ridge Funeral Home\n8525 Mid-Cities Blvd\nNorth Richland Hills\, Texas 76182\n\n\nRide Captain: \nJeffrey Wike\nasm757@att.net\n(817) 301-4293\n\n\nSpecial Instructions: \nBriefing Time 1:15 pm\nIn Position/KSU Time: 1:30 pm\nStarting Time: 2:00 pm\nRiders will stage at Forest Ridge Funeral Home for a short mission brief. After the brief\, we will set the flags and establish the Flag Line to await the arrival of Mr. Buhle’s family and friends. The Patriot Guard Riders have been requested to play “taps” and to fold and present the flag to next of kin. The Certificate of Appreciation will be presented after the flag ceremony. When directed\, riders will return the flags to the support vehicle\, have a short debriefing and be dismissed.\n\nFlags & Water:\nFlags will be provided\nLarge Bike Flags will NOT be needed.\nWater will be provided.\n\n\n\nSubmitted By: Dan Mathys \nPosition: Texas Ride Captain \n\nNote: You do not have to own/ride a motorcycle or be a veteran to join\, and membership is Free. The only requirement is RESPECT! To subscribe to receive mission notices\, log into the National Site and click on the Members tab at the top. Select the Subscribe to PGR Missions option.\n Print This Page
URL:https://www.patriotguard.org/mission/07-06-19-charles-dell-buhle/
CATEGORIES:Honor Mission
END:VEVENT
END:VCALENDAR