BEGIN:VCALENDAR
VERSION:2.0
PRODID:-//Patriot Guard Riders - ECPv5.3.2.1//NONSGML v1.0//EN
CALSCALE:GREGORIAN
METHOD:PUBLISH
X-WR-CALNAME:Patriot Guard Riders
X-ORIGINAL-URL:https://www.patriotguard.org
X-WR-CALDESC:Events for Patriot Guard Riders
BEGIN:VTIMEZONE
TZID:America/New_York
BEGIN:DAYLIGHT
TZOFFSETFROM:-0500
TZOFFSETTO:-0400
TZNAME:EDT
DTSTART:20190310T070000
END:DAYLIGHT
BEGIN:STANDARD
TZOFFSETFROM:-0400
TZOFFSETTO:-0500
TZNAME:EST
DTSTART:20191103T060000
END:STANDARD
END:VTIMEZONE
BEGIN:VEVENT
DTSTART;VALUE=DATE:20190609
DTEND;VALUE=DATE:20190610
DTSTAMP:20210404T233557
CREATED:20190609T080759Z
LAST-MODIFIED:20190609T081015Z
UID:164070-1560038400-1560124799@www.patriotguard.org
SUMMARY:Alvin L. (Al) Moore
DESCRIPTION:Alvin L. (Al) Moore\, Veteran\nUSA\nGeorgetown\, Texas – 06-09-19\n\n\n \n\nABOUT THE MISSION: \nMr. Moore\, 84\, served in the US Army from 1957 to 1959\, posted at Ft Carson\, CO\, and Ft Lewis\, WA.\n\n\nPRIMARY STAGING DETAILS: 06-09-19 \nStaging Time: 1:00 pm  \nGeorgetown Church of Christ\n1525 W University Ave\nGeorgetown\, Texas 78628\nMap\n\n\nRide Captain: \nMark Wells\natxpgr@gmail.com\n512-470-0380\n\n\nSpecial Instructions: \nThis is a flag line only prior to the memorial service. Following the start of the service we will strike the flag line and depart quietly.\n\nFlags & Water:\nFlags will be provided\nLarge Bike Flags will NOT be needed.\nWater will be provided.\n\n\n\nSubmitted By: Mark Wells \nPosition: Texas Ride Captain \n\nNote: You do not have to own/ride a motorcycle or be a veteran to join\, and membership is Free. The only requirement is RESPECT! To subscribe to receive mission notices\, log into the National Site and click on the Members tab at the top. Select the Subscribe to PGR Missions option.\n Print This Page
URL:https://www.patriotguard.org/mission/06-09-19-alvin-l-al-moore/
CATEGORIES:Memorial
END:VEVENT
END:VCALENDAR